BEGIN:VCALENDAR
VERSION:2.0
PRODID:-//ChamberMaster//Event Calendar 2.0//EN
METHOD:PUBLISH
X-PUBLISHED-TTL:P3D
REFRESH-INTERVAL:P3D
CALSCALE:GREGORIAN
BEGIN:VEVENT
DTSTART:20221106T200000Z
DTEND:20221106T220000Z
X-MICROSOFT-CDO-ALLDAYEVENT:FALSE
SUMMARY:Celebrating the Classics
DESCRIPTION:Dances celebrating the classics in every genre from classical ballet\, to musical theater\, to hip-hop. At intermission\, enjoy face painting\, balloon animals\, and yummy cupcakes\, all included with your tickets.
X-ALT-DESC;FMTTYPE=text/html:Dances celebrating the classics in every genre from classical ballet\, to musical theater\, to hip-hop. At intermission\, enjoy face painting\, balloon animals\, and yummy cupcakes\, all included with your tickets.
LOCATION:Evergreen High School
UID:e.298.88349
SEQUENCE:3
DTSTAMP:20260424T143847Z
URL:https://members.evergreenchamber.org/events/details/celebrating-the-classics-88349
END:VEVENT

END:VCALENDAR
