BEGIN:VCALENDAR
VERSION:2.0
PRODID:-//ChamberMaster//Event Calendar 2.0//EN
METHOD:PUBLISH
X-PUBLISHED-TTL:P3D
REFRESH-INTERVAL:P3D
CALSCALE:GREGORIAN
BEGIN:VEVENT
DTSTART:20210710T140000Z
DTEND:20210722T010000Z
X-MICROSOFT-CDO-ALLDAYEVENT:FALSE
SUMMARY:Cats on the Catwalk - Annual Fundraiser for EAPL (Evergreen Animal Protective League)
DESCRIPTION:Evergreen Animal Protective League's Annual Fundraiser: Cats on the Catwalk!  Wednesday\, July 21\, 2021.  Doors Open at 4 pm.  Online Bidding Begins July 14\, 2021 at 8 am.  Purchase Tickets at eapl.com   $25 per person\, *kids under 12 free!  Unlimited hors d'ourvres & desserts served at your table.  Preview the auction items at eapl.com  Come see our new Red Carpet event!  *Live music by the Wayfaring Musicians
X-ALT-DESC;FMTTYPE=text/html:<span style="font-family:comic sans ms">Evergreen Animal Protective League&#39\;s Annual Fundraiser: <big><strong><span style="background-color:#DDA0DD">Cats on the Catwalk!</span></strong></big>&nbsp\; Wednesday\, <strong><span style="background-color:#EE82EE">July 21\, 2021</span></strong>.&nbsp\; Doors Open at 4 pm.&nbsp\; Online Bidding Begins July 14\, 2021 at 8 am.&nbsp\; Purchase Tickets at eapl.com&nbsp\; &nbsp\;$25 per person\, *kids under 12 <u>free</u>!&nbsp\; Unlimited hors d&#39\;ourvres &amp\; desserts served at your table.&nbsp\; Preview the auction items at eapl.com&nbsp\; Come see our new Red Carpet event!&nbsp\; *Live music by the <em><strong><span style="background-color:#EE82EE">Wayfaring Musicians</span></strong></em></span>
LOCATION:Cactus Jack's\, 4651 Co Rd 73\, Evergreen.
UID:e.298.84337
SEQUENCE:3
DTSTAMP:20260425T030220Z
URL:https://members.evergreenchamber.org/events/details/cats-on-the-catwalk-annual-fundraiser-for-eapl-evergreen-animal-protective-league-84337
END:VEVENT

END:VCALENDAR
