BEGIN:VCALENDAR
VERSION:2.0
PRODID:-//ChamberMaster//Event Calendar 2.0//EN
METHOD:PUBLISH
X-PUBLISHED-TTL:P3D
REFRESH-INTERVAL:P3D
CALSCALE:GREGORIAN
BEGIN:VEVENT
DTSTART:20221231T030000Z
DTEND:20221231T070000Z
X-MICROSOFT-CDO-ALLDAYEVENT:FALSE
SUMMARY:Candlepin Slim
DESCRIPTION:Candlepin Slim is a rock and funk collective with chapters in Boston\, New York\, and Denver. Influenced by bands like the Rolling Stones\, Joe Jackson\, and Morphine\, Candlepin Slim plays originals and classic B-side covers...\n\nThe Denver chapter features:\n\nBrian King - trumpet\, guitar\, vox\n\nRyan Melnick - bass\n\nHayden Bosch - drums\n\n**and a rotating cast of Colorado's best horn players!**
X-ALT-DESC;FMTTYPE=text/html:<div>\n<p>Candlepin Slim is a rock and funk collective with chapters in Boston\, New York\, and Denver. Influenced by bands like the Rolling Stones\, Joe Jackson\, and Morphine\, Candlepin Slim plays originals and classic B-side covers...</p>\n\n<p>The Denver chapter features:<br />\nBrian King - trumpet\, guitar\, vox<br />\nRyan Melnick - bass<br />\nHayden Bosch - drums<br />\n**and a rotating cast of Colorado&#39\;s best horn players!**</p>\n</div>\n\n<div>\n<div>\n<div>\n<div style="margin-right:-485px">&nbsp\;</div>\n</div>\n</div>\n</div>\n
LOCATION:
UID:e.298.88591
SEQUENCE:3
DTSTAMP:20260424T005334Z
URL:https://members.evergreenchamber.org/events/details/candlepin-slim-88591
END:VEVENT

END:VCALENDAR
