BEGIN:VCALENDAR
VERSION:2.0
PRODID:-//ChamberMaster//Event Calendar 2.0//EN
METHOD:PUBLISH
X-PUBLISHED-TTL:P3D
REFRESH-INTERVAL:P3D
CALSCALE:GREGORIAN
BEGIN:VEVENT
DTSTART:20251030T220000Z
DTEND:20251031T010000Z
X-MICROSOFT-CDO-ALLDAYEVENT:FALSE
SUMMARY:CAE EXHIBITION OPENING RECEPTION
DESCRIPTION:Exhibition runs October 30th through November 29th\, 2025
X-ALT-DESC;FMTTYPE=text/html:Exhibition runs October 30th through November 29th\, 2025
LOCATION:31880 Rocky Village Drive Evergreen\, CO 80439
UID:e.298.95698
SEQUENCE:3
DTSTAMP:20260420T002303Z
URL:https://members.evergreenchamber.org/events/details/cae-exhibition-opening-reception-10-30-2025-95698
END:VEVENT

END:VCALENDAR
