BEGIN:VCALENDAR
VERSION:2.0
PRODID:-//ChamberMaster//Event Calendar 2.0//EN
METHOD:PUBLISH
X-PUBLISHED-TTL:P3D
REFRESH-INTERVAL:P3D
CALSCALE:GREGORIAN
BEGIN:VEVENT
DTSTART:20250313T220000Z
DTEND:20250314T010000Z
X-MICROSOFT-CDO-ALLDAYEVENT:FALSE
SUMMARY:CAE EXHIBITION OPENING RECEPTION
DESCRIPTION:Exhibition runs March 13th through March 22\, 2025
X-ALT-DESC;FMTTYPE=text/html:Exhibition runs March 13th through March 22\, 2025
LOCATION:31880 Rocky Village Drive Evergreen\, CO 80439
UID:e.298.95701
SEQUENCE:3
DTSTAMP:20260420T115726Z
URL:https://members.evergreenchamber.org/events/details/cae-exhibition-opening-reception-03-13-2025-95701
END:VEVENT

END:VCALENDAR
