BEGIN:VCALENDAR
VERSION:2.0
PRODID:-//ChamberMaster//Event Calendar 2.0//EN
METHOD:PUBLISH
X-PUBLISHED-TTL:P3D
REFRESH-INTERVAL:P3D
CALSCALE:GREGORIAN
BEGIN:VEVENT
DTSTART:20230114T030000Z
DTEND:20230114T070000Z
X-MICROSOFT-CDO-ALLDAYEVENT:FALSE
SUMMARY:Built to Last
DESCRIPTION:Built to Last\n\nColorado's quintessential Grateful Dead cover band\, since 2014.archive.org/details/s-1-t-1-shakedown-bertha/S2T5+Wharf+Rat.mp3
X-ALT-DESC;FMTTYPE=text/html:<p>Built to Last</p>\n\n<p>Colorado&#39\;s quintessential Grateful Dead cover band\, since 2014.<a href="https://l.instagram.com/?u=https%3A%2F%2Farchive.org%2Fdetails%2Fs-1-t-1-shakedown-bertha%2FS2T5%2BWharf%2BRat.mp3&amp\;e=ATPZ1r3hlk8-YGMsjNtgEh3Bb_JiAqANuQpUoq-Zb8ZXmw0IPQI1WQ5nisxaTkCSoDrD-uu13a_bW4e8asQ5o1_zTN2vo25KhHZdyw&amp\;s=1" style="box-sizing: border-box\; color: var(--bs-link-color)\; text-decoration-line: none\;" target="_blank">archive.org/details/s-1-t-1-shakedown-bertha/S2T5+Wharf+Rat.mp3</a></p>\n
LOCATION:
UID:e.298.88593
SEQUENCE:3
DTSTAMP:20260424T131227Z
URL:https://members.evergreenchamber.org/events/details/built-to-last-88593
END:VEVENT

END:VCALENDAR
