BEGIN:VCALENDAR
VERSION:2.0
PRODID:-//ChamberMaster//Event Calendar 2.0//EN
METHOD:PUBLISH
X-PUBLISHED-TTL:P3D
REFRESH-INTERVAL:P3D
CALSCALE:GREGORIAN
BEGIN:VEVENT
DTSTART:20250626T173000Z
DTEND:20250626T190000Z
X-MICROSOFT-CDO-ALLDAYEVENT:FALSE
SUMMARY:Bristlecone Lounge GRAND OPENING for senior Active Adults
DESCRIPTION:We invite you to stop by and experience the new Bristlecone Lounge   a welcoming space for older adults\, open Monday through Friday from 8:00 AM to noon. Come enjoy a cup of coffee\, play cards or puzzles\, socialize with friends\, or drop in before or after your workout at Buchanan.\n\n\nThis Active Adult space for seniors is also available after 12:00 pm on weekdays for special activities\, programs\, and events. Be sure to check your email regularly for updates on what's happening!\n\nOther community organizations will be in attendance with information YOU NEED TO KNOW. There will be giveaways\, prizes\, coffee and snacks\, games and crafts.\n\nJoin us in celebrating and supporting this exciting new chapter with Seniors4Wellness\, the Evergreen Park & Recreation District (EPRD) and other community organizations in this long-awaited\, dedicated senior space!
X-ALT-DESC;FMTTYPE=text/html:<div>We invite you to stop by and experience the new Bristlecone Lounge &mdash\; a welcoming space for older adults\, open Monday through Friday from 8:00 AM to noon. Come enjoy a cup of coffee\, play cards or puzzles\, socialize with friends\, or drop in before or after your workout at Buchanan.</div>\n\n<div>\n<p>This Active Adult space for seniors is also available after 12:00 pm on weekdays for special activities\, programs\, and events. Be sure to check your email regularly for updates on what&rsquo\;s happening!</p>\n\n<p>Other community organizations will be in attendance with information<strong>&nbsp\;YOU NEED TO KNOW</strong>. There will be giveaways\, prizes\, coffee and snacks\, games and crafts.</p>\n\n<p>Join us in celebrating and supporting this exciting new chapter with Seniors4Wellness\, the Evergreen Park &amp\; Recreation District (EPRD) and other community organizations in this long-awaited\, dedicated senior space!</p>\n</div>\n
LOCATION:Buchanan Recreation Center Bristlecone Lounge 32003 Ellingwood Trail Evergreen\, CO 80439
UID:e.298.100214
SEQUENCE:3
DTSTAMP:20260420T070705Z
URL:https://members.evergreenchamber.org/events/details/bristlecone-lounge-grand-opening-for-senior-active-adults-100214
END:VEVENT

END:VCALENDAR
