BEGIN:VCALENDAR
VERSION:2.0
PRODID:-//ChamberMaster//Event Calendar 2.0//EN
METHOD:PUBLISH
X-PUBLISHED-TTL:P3D
REFRESH-INTERVAL:P3D
CALSCALE:GREGORIAN
BEGIN:VEVENT
DTSTART:20220719T143000Z
DTEND:20220719T153000Z
X-MICROSOFT-CDO-ALLDAYEVENT:FALSE
SUMMARY:Breakfasts & Benefits
DESCRIPTION:Breakfast & Benefits
X-ALT-DESC;FMTTYPE=text/html:Breakfast &amp\; Benefits
LOCATION:Virtual Meeting Nancy Judge is inviting you to a scheduled Zoom meeting. Topic: Breakfast & Benefits Time: Jul 19\, 2022 08:30 AM Mountain Time (US and Canada) Join Zoom Meeting https://us02web.zoom.us/j/88909710939?pwd=UGE2SEx0THM5ZG9oaGd6WU5LL3Zydz09 Meeting ID: 889 0971 0939 Passcode: 308240 One tap mobile +12532158782\,\,88909710939#\,\,\,\,*308240# US (Tacoma) +13462487799\,\,88909710939#\,\,\,\,*308240# US (Houston) Dial by your location +1 253 215 8782 US (Tacoma) +1 346 248 7799 US (Houston) +1 669 900 6833 US (San Jose) +1 301 715 8592 US (Washington DC) +1 312 626 6799 US (Chicago) +1 929 205 6099 US (New York) Meeting ID: 889 0971 0939 Passcode: 308240 Find your local number: https://us02web.zoom.us/u/kcdjjBjqYd
UID:e.298.87534
SEQUENCE:3
DTSTAMP:20260424T085509Z
URL:https://members.evergreenchamber.org/events/details/breakfasts-benefits-87534
END:VEVENT

END:VCALENDAR
