BEGIN:VCALENDAR
VERSION:2.0
PRODID:-//ChamberMaster//Event Calendar 2.0//EN
METHOD:PUBLISH
X-PUBLISHED-TTL:P3D
REFRESH-INTERVAL:P3D
CALSCALE:GREGORIAN
BEGIN:VEVENT
DTSTART:20230126T170000Z
DTEND:20230126T180000Z
X-MICROSOFT-CDO-ALLDAYEVENT:FALSE
SUMMARY:Breakfast & Benefits
DESCRIPTION:Breakfast & Benefits - Join us whether you are new to the Chamber or need a refresher on your membership.
X-ALT-DESC;FMTTYPE=text/html:Breakfast &amp\; Benefits - Join us whether you are new to the Chamber or need a refresher on your membership.
LOCATION:Virtual Meeting: Nancy Judge is inviting you to a scheduled Zoom meeting. Login information will be provided upon registration. Topic: Breakfast & Benefits Time: January 26\, 2022 10:00 AM Mountain Time (US and Canada)
UID:e.298.88438
SEQUENCE:3
DTSTAMP:20260423T232456Z
URL:https://members.evergreenchamber.org/events/details/breakfast-benefits-88438
END:VEVENT

END:VCALENDAR
