BEGIN:VCALENDAR
VERSION:2.0
PRODID:-//ChamberMaster//Event Calendar 2.0//EN
METHOD:PUBLISH
X-PUBLISHED-TTL:P3D
REFRESH-INTERVAL:P3D
CALSCALE:GREGORIAN
BEGIN:VEVENT
DTSTART:20220310T170000Z
DTEND:20220310T183000Z
X-MICROSOFT-CDO-ALLDAYEVENT:FALSE
SUMMARY:Breakfast and Benefits - March 2022
DESCRIPTION:Please join the Chamber team and find out how to get the most out of your Evergreen Area Chamber of Commerce Membership.
X-ALT-DESC;FMTTYPE=text/html:Please join the Chamber team and find out how to get the most out of your Evergreen Area Chamber of Commerce Membership.
LOCATION:This is a virtual event
UID:e.298.86470
SEQUENCE:3
DTSTAMP:20260424T143848Z
URL:https://members.evergreenchamber.org/events/details/breakfast-and-benefits-march-2022-86470
END:VEVENT

END:VCALENDAR
