BEGIN:VCALENDAR
VERSION:2.0
PRODID:-//ChamberMaster//Event Calendar 2.0//EN
METHOD:PUBLISH
X-PUBLISHED-TTL:P3D
REFRESH-INTERVAL:P3D
CALSCALE:GREGORIAN
BEGIN:VEVENT
DTSTART:20230313T160000Z
DTEND:20230313T170000Z
X-MICROSOFT-CDO-ALLDAYEVENT:FALSE
SUMMARY:Breakfast and Benefits
DESCRIPTION:Breakfast and Benefits - Join us whether you are new to the Chamber or need a refresher on your membership.
X-ALT-DESC;FMTTYPE=text/html:<strong>Breakfast and Benefits </strong>-&nbsp\;<span style="color: rgb(51\, 51\, 51)\; font-family: sans-serif\, Arial\, Verdana\, &quot\;Trebuchet MS&quot\;\; font-size: 13px\; background-color: rgb(255\, 255\, 255)\;">Join us whether you are new to the Chamber or need a refresher on your membership.</span>
LOCATION:Virtual Meeting: Nancy Judge is inviting you to a scheduled Zoom meeting. Login instructions will be provided with registration. Topic: Breakfast & Benefits Time: Monday\, March 13\, 2022 10:00AM Mountain Time (US and Canada)
UID:e.298.89238
SEQUENCE:3
DTSTAMP:20260423T205222Z
URL:https://members.evergreenchamber.org/events/details/breakfast-and-benefits-89238
END:VEVENT

END:VCALENDAR
