BEGIN:VCALENDAR
VERSION:2.0
PRODID:-//ChamberMaster//Event Calendar 2.0//EN
METHOD:PUBLISH
X-PUBLISHED-TTL:P3D
REFRESH-INTERVAL:P3D
CALSCALE:GREGORIAN
BEGIN:VEVENT
DTSTART:20220817T150000Z
DTEND:20220817T160000Z
X-MICROSOFT-CDO-ALLDAYEVENT:FALSE
SUMMARY:Breakfast and Benefits
DESCRIPTION:Breakfast and Benefits\n\nGet the most out of your Evergreen Chamber of Commerce Membership!
X-ALT-DESC;FMTTYPE=text/html:<strong>Breakfast and Benefits</strong><br />\nGet the most out of your Evergreen Chamber of Commerce Membership!
LOCATION:Virtual Meeting Login information will be provided with your registration confirmation.
UID:e.298.87536
SEQUENCE:3
DTSTAMP:20260424T070043Z
URL:https://members.evergreenchamber.org/events/details/breakfast-and-benefits-87536
END:VEVENT

END:VCALENDAR
