BEGIN:VCALENDAR
VERSION:2.0
PRODID:-//ChamberMaster//Event Calendar 2.0//EN
METHOD:PUBLISH
X-PUBLISHED-TTL:P3D
REFRESH-INTERVAL:P3D
CALSCALE:GREGORIAN
BEGIN:VEVENT
DTSTART:20241025T233000Z
DTEND:20241026T040000Z
X-MICROSOFT-CDO-ALLDAYEVENT:FALSE
SUMMARY:BOOgie Bash
DESCRIPTION:Boogie Benefits presents the annual BOOgie Bash Friday Oct. 25 from 5:30 until 10 pm at the Wild Game. The evening will feature live music from local performer Boogie Benefits presents the annual BOOgie Bash Friday Oct.25 from 5:30-10 pm at the Wild Game. The event features live music by local performer Tyler Phillips and returning favorite the Wash Park band\, one of Denver's premiere dance bands. There also will be a costume contest with prizes. The event proceeds benefit Resilience1220\, a local nonprofit that provides free counseling to youth ages 12- 20 to help them with mental health challenges.
X-ALT-DESC;FMTTYPE=text/html:Boogie Benefits presents the annual BOOgie Bash Friday Oct. 25 from 5:30 until 10 pm at the Wild Game. The evening will feature live music from local performer Boogie Benefits presents the annual BOOgie Bash Friday Oct.25 from 5:30-10 pm at the Wild Game. The event features live music by local performer Tyler Phillips and returning favorite the Wash Park band\, one of Denver&#39\;s premiere dance bands. There also will be a costume contest with prizes. The event proceeds benefit Resilience1220\, a local nonprofit that provides free counseling to youth ages 12- 20 to help them with mental health challenges.
LOCATION:Wild Game
UID:e.298.95327
SEQUENCE:3
DTSTAMP:20260420T061916Z
URL:https://members.evergreenchamber.org/events/details/boogie-bash-95327
END:VEVENT

END:VCALENDAR
