BEGIN:VCALENDAR
VERSION:2.0
PRODID:-//ChamberMaster//Event Calendar 2.0//EN
METHOD:PUBLISH
X-PUBLISHED-TTL:P3D
REFRESH-INTERVAL:P3D
CALSCALE:GREGORIAN
BEGIN:VEVENT
DTSTART:20251026T000000Z
DTEND:20251025T180000Z
X-MICROSOFT-CDO-ALLDAYEVENT:FALSE
SUMMARY:Boogie Bash
DESCRIPTION:Boogie Halloween Bash with Wash Park. Save the date.
X-ALT-DESC;FMTTYPE=text/html:Boogie Halloween Bash with Wash Park. Save the date.
LOCATION:Wild Game
UID:e.298.99669
SEQUENCE:3
DTSTAMP:20260420T002228Z
URL:https://members.evergreenchamber.org/events/details/boogie-bash-10-25-2025-99669
END:VEVENT

END:VCALENDAR
