BEGIN:VCALENDAR
VERSION:2.0
PRODID:-//ChamberMaster//Event Calendar 2.0//EN
METHOD:PUBLISH
X-PUBLISHED-TTL:P3D
REFRESH-INTERVAL:P3D
CALSCALE:GREGORIAN
BEGIN:VEVENT
DTSTART:20260426T000000Z
DTEND:20260426T040000Z
X-MICROSOFT-CDO-ALLDAYEVENT:FALSE
SUMMARY:Boogie at the Barn
DESCRIPTION:Boogie at the Barn
X-ALT-DESC;FMTTYPE=text/html:Boogie at the Barn
LOCATION:
UID:e.298.106455
SEQUENCE:3
DTSTAMP:20260421T152101Z
URL:https://members.evergreenchamber.org/events/details/boogie-at-the-barn-04-25-2026-106455
END:VEVENT

END:VCALENDAR
