BEGIN:VCALENDAR
VERSION:2.0
PRODID:-//ChamberMaster//Event Calendar 2.0//EN
METHOD:PUBLISH
X-PUBLISHED-TTL:P3D
REFRESH-INTERVAL:P3D
CALSCALE:GREGORIAN
BEGIN:VEVENT
DTSTART:20250705T170000Z
DTEND:20250705T200000Z
X-MICROSOFT-CDO-ALLDAYEVENT:FALSE
SUMMARY:Blood Donation Event
DESCRIPTION:Bergen Village Shopping Center is partnering with Vitalant to host a blood drive right here in Evergreen. Slots are limited so sign-up as soon as you can!
X-ALT-DESC;FMTTYPE=text/html:<span style="color:rgb(5\, 5\, 5)\; font-family:segoe ui historic\,segoe ui\,helvetica\,arial\,sans-serif\; font-size:15px">Bergen Village Shopping Center is partnering with Vitalant to host a blood drive right here in Evergreen. Slots are limited so sign-up as soon as you can!&nbsp\;</span>
LOCATION:Bergen Village Shopping Center\, Suite B-200 1260 Bergen Parkway
UID:e.298.97892
SEQUENCE:3
DTSTAMP:20260420T052552Z
URL:https://members.evergreenchamber.org/events/details/blood-donation-event-07-05-2025-97892
END:VEVENT

END:VCALENDAR
