BEGIN:VCALENDAR
VERSION:2.0
PRODID:-//ChamberMaster//Event Calendar 2.0//EN
METHOD:PUBLISH
X-PUBLISHED-TTL:P3D
REFRESH-INTERVAL:P3D
CALSCALE:GREGORIAN
BEGIN:VEVENT
DTSTART:20250607T150000Z
DTEND:20250607T220000Z
X-MICROSOFT-CDO-ALLDAYEVENT:FALSE
SUMMARY:Big Sky Mind - A Guided Silent Meditation Retreat
DESCRIPTION:Mahamudra meditation\, rooted in the rich tradition of Buddhism\, offers a journey toward profound insight and inner peace\; and can be practiced by anyone. The benefits of Mahamudra extend far beyond mere relaxation or stress relief\; it encompasses a profound shift in perspective\, leading to greater wisdom\, compassion\, and freedom from suffering. On this retreat we will learn how to unveil and meditate on the clarity\, luminosity\, and natural purity of our own mind\, coming to rest in a deeply peaceful state of awareness. By discovering that there is far more space inside us than outside\, we see our usual problems in perspective   a skill which can then permeate every aspect of our lives.
X-ALT-DESC;FMTTYPE=text/html:Mahamudra meditation\, rooted in the rich tradition of Buddhism\, offers a journey toward profound insight and inner peace\; and can be practiced by anyone. The benefits of Mahamudra extend far beyond mere relaxation or stress relief\; it encompasses a profound shift in perspective\, leading to greater wisdom\, compassion\, and freedom from suffering. On this retreat we will learn how to unveil and meditate on the clarity\, luminosity\, and natural purity of our own mind\, coming to rest in a deeply peaceful state of awareness. By discovering that there is far more space inside us than outside\, we see our usual problems in perspective &ndash\; a skill which can then permeate every aspect of our lives.
LOCATION:United Methodist Church of Evergreen 3757 Ponderosa Dr\, Evergreen\, CO 80439
UID:e.298.99557
SEQUENCE:3
DTSTAMP:20260420T072835Z
URL:https://members.evergreenchamber.org/events/details/big-sky-mind-a-guided-silent-meditation-retreat-99557
END:VEVENT

END:VCALENDAR
