BEGIN:VCALENDAR
VERSION:2.0
PRODID:-//ChamberMaster//Event Calendar 2.0//EN
METHOD:PUBLISH
X-PUBLISHED-TTL:P3D
REFRESH-INTERVAL:P3D
CALSCALE:GREGORIAN
BEGIN:VEVENT
DTSTART:20230401T170000Z
DTEND:20230402T020000Z
X-MICROSOFT-CDO-ALLDAYEVENT:FALSE
SUMMARY:Beau Jo's Mountain Pies TURNS 50!
DESCRIPTION:BEAU JO's 50th ANNIVERSARY!\n\n\n\nJoin us for a day of fun and festivities!\n\nPrizes given away all day long. First 50 customers get a Limited Edition Swag Bag with the chance to win pizza for a year*\n\n*Restrictions may apply. \n\n\n\nSpecial prizes at the Evergreen location too!
X-ALT-DESC;FMTTYPE=text/html:<strong>BEAU JO&#39\;s 50th ANNIVERSARY!</strong><br />\n<br />\nJoin us for a day of fun and festivities!<br />\nPrizes given away all day long. First 50 customers get a Limited Edition Swag Bag with the chance to win pizza for a year*<br />\n*Restrictions may apply.&nbsp\;<br />\n<br />\nSpecial prizes at the Evergreen location too!&nbsp\;
LOCATION:Beau Jo's - Idaho Springs location 1517 Miner St. Idaho Springs\, CO 80452
UID:e.298.89474
SEQUENCE:3
DTSTAMP:20260423T193431Z
URL:https://members.evergreenchamber.org/events/details/beau-jo-s-mountain-pies-turns-50-89474
END:VEVENT

END:VCALENDAR
