BEGIN:VCALENDAR
VERSION:2.0
PRODID:-//ChamberMaster//Event Calendar 2.0//EN
METHOD:PUBLISH
X-PUBLISHED-TTL:P3D
REFRESH-INTERVAL:P3D
CALSCALE:GREGORIAN
BEGIN:VEVENT
DTSTART:20251120T170000Z
DTEND:20251120T180000Z
X-MICROSOFT-CDO-ALLDAYEVENT:FALSE
SUMMARY:Ask Monika Anything (About Marketing)
DESCRIPTION:Take your small business marketing to the next level and attend our last Ask Monika Anything (About Marketing) session for the year. CEO Monika Jansen taps into her 15 years of content marketing experience to answer four "hot seat" questions you submit and discusses topics that are a perennial frustration for small business owners. The best part - it's free! Attendees must register at least 24 hours in advance.
X-ALT-DESC;FMTTYPE=text/html:Take your small business marketing to the next level and attend our last Ask Monika Anything (About Marketing) session for the year. CEO Monika Jansen taps into her 15 years of content marketing experience to answer four &quot\;hot seat&quot\; questions you submit and discusses topics that are a perennial frustration for small business owners. The best part - it&#39\;s free! Attendees must register at least 24 hours in advance.
LOCATION:Online
UID:e.298.104018
SEQUENCE:3
DTSTAMP:20260419T224921Z
URL:https://members.evergreenchamber.org/events/details/ask-monika-anything-about-marketing-11-20-2025-104018
END:VEVENT

END:VCALENDAR
