BEGIN:VCALENDAR
VERSION:2.0
PRODID:-//ChamberMaster//Event Calendar 2.0//EN
METHOD:PUBLISH
X-PUBLISHED-TTL:P3D
REFRESH-INTERVAL:P3D
CALSCALE:GREGORIAN
BEGIN:VEVENT
DTSTART:20250618T200000Z
DTEND:20250618T210000Z
X-MICROSOFT-CDO-ALLDAYEVENT:FALSE
SUMMARY:Ask Monika Anything (About Marketing)
DESCRIPTION:Got marketing questions? Well\, good news: CEO Monika Jansen is now answering them for FREE! That's right\, her monthly Ask Monika Anything (About Marketing) is no longer a paid event. She made this change for a simple reason: Monika wants to help as many small business owners as possible level up their marketing. Please join Monika on June 18th at 2pm MST when she'll answer four hot seat questions and discuss why you need to blog. (Hint: B2B businesses that blog get 67 percent more leads than those that don't.) The registration page has all of the info!
X-ALT-DESC;FMTTYPE=text/html:Got marketing questions? Well\, good news: CEO Monika Jansen is now answering them for FREE! That&#39\;s right\, her monthly Ask Monika Anything (About Marketing) is no longer a paid event. She made this change for a simple reason: Monika wants to help as many small business owners as possible level up their marketing. Please join Monika on June 18th at 2pm MST when she&#39\;ll answer four hot seat questions and discuss why you need to blog. (Hint: B2B businesses that blog get 67 percent more leads than those that don&rsquo\;t.) The registration page has all of the info!
LOCATION:Live online workshop
UID:e.298.100185
SEQUENCE:3
DTSTAMP:20260420T063819Z
URL:https://members.evergreenchamber.org/events/details/ask-monika-anything-about-marketing-06-18-2025-100185
END:VEVENT

END:VCALENDAR
