BEGIN:VCALENDAR
VERSION:2.0
PRODID:-//ChamberMaster//Event Calendar 2.0//EN
METHOD:PUBLISH
X-PUBLISHED-TTL:P3D
REFRESH-INTERVAL:P3D
CALSCALE:GREGORIAN
BEGIN:VEVENT
DTSTART:20250613T230000Z
DTEND:20250614T030000Z
X-MICROSOFT-CDO-ALLDAYEVENT:FALSE
SUMMARY:Art Opening Reception Celebrating Dan De Los Monteros stunning art!!
DESCRIPTION:Revival Brews is excited to announce the opening reception of local artist Dan De Los Monteros!! Opening Reception: June 13th 5 to 9pm. Join us in the celebration of Dan's stunning metal photograph prints of nature. Dan's beautiful art will be hung throughout the restaurant for everyone's enjoyment. Free 5 oz white fresh house made sangrias for all the art lovers to enjoy as well. Come support local artist Dan De Los Monteros\, support local restaurants\, local shops\, and stores. Thank you to everyone for all your support!! www.dandelosmonteros.com   @ddlm_art
X-ALT-DESC;FMTTYPE=text/html:Revival Brews is excited to announce the opening reception of local artist Dan De Los Monteros!! Opening Reception: June 13th 5 to 9pm. Join us in the celebration of Dan&#39\;s stunning metal photograph prints of nature. Dan&#39\;s beautiful art will be hung throughout the restaurant for everyone&#39\;s enjoyment. Free 5 oz white fresh house made sangrias for all the art lovers to enjoy as well. Come support local artist Dan De Los Monteros\, support local restaurants\, local shops\, and stores. Thank you to everyone for all your support!! www.dandelosmonteros.com&nbsp\; &nbsp\;@ddlm_art
LOCATION:Revival Brews Hwy 74 27845 Downtown Evergreen
UID:e.298.100164
SEQUENCE:3
DTSTAMP:20260420T081951Z
URL:https://members.evergreenchamber.org/events/details/art-opening-reception-celebrating-dan-de-los-monteros-stunning-art-100164
END:VEVENT

END:VCALENDAR
