BEGIN:VCALENDAR
VERSION:2.0
PRODID:-//ChamberMaster//Event Calendar 2.0//EN
METHOD:PUBLISH
X-PUBLISHED-TTL:P3D
REFRESH-INTERVAL:P3D
CALSCALE:GREGORIAN
BEGIN:VEVENT
DTSTART:20220707T223000Z
DTEND:20220707T233000Z
X-MICROSOFT-CDO-ALLDAYEVENT:FALSE
SUMMARY:Ambassador Happy Hour
DESCRIPTION:Join us for our Ambassador Appreciation Happy Hour!
X-ALT-DESC;FMTTYPE=text/html:Join us for our Ambassador Appreciation Happy Hour!
LOCATION:Troutdale Tavern 30790 STAGECOACH BLVD UNIT 101
UID:e.298.87519
SEQUENCE:3
DTSTAMP:20260424T082441Z
URL:https://members.evergreenchamber.org/events/details/ambassador-happy-hour-87519
END:VEVENT

END:VCALENDAR
