BEGIN:VCALENDAR
VERSION:2.0
PRODID:-//ChamberMaster//Event Calendar 2.0//EN
METHOD:PUBLISH
X-PUBLISHED-TTL:P3D
REFRESH-INTERVAL:P3D
CALSCALE:GREGORIAN
BEGIN:VEVENT
DTSTART:20220909T010000Z
DTEND:20220909T023000Z
X-MICROSOFT-CDO-ALLDAYEVENT:FALSE
SUMMARY:Alpine Rescue Team Fundraiser
DESCRIPTION:Alpine Rescue Team Fundraiser + Dr. Jon Kedrowski Book Talk\n\nBy Bivouac Coffee Co.\n\n\n\nJoin us for a benefit evening for your local Alpine Rescue Team. Your ticket goes directly to supporting the ART's mission in the Front Range.\nDr. Jon Kedrowski will be presenting his new book\, Classic Colorado Hikes\, as well as talking about what it's like to summit Everest. His discussion and slideshow will focus on trip planning as well as weather and climate conditions in Colorado for the recreational hiker and scrambler and will include information on safety and backcountry preparedness. Some of the best lakes\, high mountain peaks\, swimming spots and even "Wild Ice" skating will all be part of the journey in this multimedia presentation! The talk will be followed by a Q&A.\n\nThe Alpine Rescue Team will be sharing tips on how you can stay safe in the mountains and what to do when something goes wrong or when you run into someone else who needs help in the backcountry.\n\nFinally\, we will have a raffle with prizes from Bivouac Coffee\, Zeal Optics\, Fj llr ven Denver and more! All attendees will be entered to win. There will opportunities to support the Alpine Rescue Team and receive additional raffle entries!\n\nAll proceeds will go to the Alpine Rescue Team.\n\nTickets will also be for sale at the door.
X-ALT-DESC;FMTTYPE=text/html:<span style="font-size:12px\;"><strong>Alpine Rescue Team Fundraiser + Dr. Jon Kedrowski Book Talk<br />\nBy Bivouac Coffee Co.</strong><br />\n<br />\n<span style="color: rgb(111\, 114\, 135)\; font-family: &quot\;Neue Plak&quot\;\, -apple-system\, BlinkMacSystemFont\, Roboto\, &quot\;Helvetica Neue&quot\;\, Helvetica\, Tahoma\, Arial\, sans-serif\; letter-spacing: 0.5px\; background-color: rgb(255\, 255\, 255)\;">Join us for a benefit evening for your local Alpine Rescue Team. Your ticket goes directly to supporting the ART&rsquo\;s mission in the Front Range.</span></span>\n<p style="margin: 0px\; padding: 10px 0px 0px\; color: rgb(111\, 114\, 135)\; font-size: 16px\; line-height: 1.5rem\; font-family: &quot\;Neue Plak&quot\;\, -apple-system\, BlinkMacSystemFont\, Roboto\, &quot\;Helvetica Neue&quot\;\, Helvetica\, Tahoma\, Arial\, sans-serif\; letter-spacing: 0.5px\; background-color: rgb(255\, 255\, 255)\;"><span style="font-size:12px\;"><a href="https://jonkedrowski.com/" rel="nofollow noopener noreferrer" style="text-decoration-line: none\; cursor: pointer\; background-color: transparent\; padding-top: 0px\;" target="_blank">Dr. Jon Kedrowski</a>&nbsp\;will be presenting his new book\,&nbsp\;<a href="https://www.cmc.org/books/books/classic-colorado-hikes-lakes-loops-and-high-ridge-traverses" rel="nofollow noopener noreferrer" style="text-decoration-line: none\; cursor: pointer\; background-color: transparent\;" target="_blank"><em style="padding-top: 0px\;">Classic Colorado Hikes</em></a>\, as well as talking about what it&#39\;s like to summit Everest. His discussion and slideshow will focus on trip planning as well as weather and climate conditions in Colorado for the recreational hiker and scrambler and will include information on safety and backcountry preparedness. Some of the best lakes\, high mountain peaks\, swimming spots and even &ldquo\;Wild Ice&rdquo\; skating will all be part of the journey in this multimedia presentation! The talk will be followed by a Q&amp\;A.</span></p>\n\n<p style="margin: 0px\; padding: 10px 0px 0px\; color: rgb(111\, 114\, 135)\; font-size: 16px\; line-height: 1.5rem\; font-family: &quot\;Neue Plak&quot\;\, -apple-system\, BlinkMacSystemFont\, Roboto\, &quot\;Helvetica Neue&quot\;\, Helvetica\, Tahoma\, Arial\, sans-serif\; letter-spacing: 0.5px\; background-color: rgb(255\, 255\, 255)\;"><span style="font-size:12px\;">The&nbsp\;<a href="https://alpinerescueteam.org/" rel="nofollow noopener noreferrer" style="text-decoration-line: none\; cursor: pointer\; background-color: transparent\; padding-top: 0px\;" target="_blank">Alpine Rescue Team</a>&nbsp\;will be sharing tips on how you can stay safe in the mountains and what to do when something goes wrong or when you run into someone else who needs help in the backcountry.</span></p>\n\n<p style="margin: 0px\; padding: 10px 0px 0px\; color: rgb(111\, 114\, 135)\; font-size: 16px\; line-height: 1.5rem\; font-family: &quot\;Neue Plak&quot\;\, -apple-system\, BlinkMacSystemFont\, Roboto\, &quot\;Helvetica Neue&quot\;\, Helvetica\, Tahoma\, Arial\, sans-serif\; letter-spacing: 0.5px\; background-color: rgb(255\, 255\, 255)\;"><span style="font-size:12px\;">Finally\, we will have a raffle with prizes from Bivouac Coffee\, Zeal Optics\, Fj&auml\;llr&auml\;ven Denver and more! All attendees will be entered to win. There will opportunities to support the Alpine Rescue Team and receive additional raffle entries!</span></p>\n\n<p style="margin: 0px\; padding: 10px 0px 0px\; color: rgb(111\, 114\, 135)\; font-size: 16px\; line-height: 1.5rem\; font-family: &quot\;Neue Plak&quot\;\, -apple-system\, BlinkMacSystemFont\, Roboto\, &quot\;Helvetica Neue&quot\;\, Helvetica\, Tahoma\, Arial\, sans-serif\; letter-spacing: 0.5px\; background-color: rgb(255\, 255\, 255)\;"><span style="font-size:12px\;">All proceeds will go to the Alpine Rescue Team.</span></p>\n\n<p style="margin: 0px\; padding: 10px 0px 0px\; color: rgb(111\, 114\, 135)\; font-size: 16px\; line-height: 1.5rem\; font-family: &quot\;Neue Plak&quot\;\, -apple-system\, BlinkMacSystemFont\, Roboto\, &quot\;Helvetica Neue&quot\;\, Helvetica\, Tahoma\, Arial\, sans-serif\; letter-spacing: 0.5px\; background-color: rgb(255\, 255\, 255)\;"><span style="font-size:12px\;">Tickets will also be for sale at the door.</span></p>\n<br />\n&nbsp\;
LOCATION:Bivouac Coffee Co. Tasting Room 1552 Bergen Parkway\, #303 Evergreen\, CO
UID:e.298.88319
SEQUENCE:3
DTSTAMP:20260424T053835Z
URL:https://members.evergreenchamber.org/events/details/alpine-rescue-team-fundraiser-88319
END:VEVENT

END:VCALENDAR
