BEGIN:VCALENDAR
VERSION:2.0
PRODID:-//ChamberMaster//Event Calendar 2.0//EN
METHOD:PUBLISH
X-PUBLISHED-TTL:P3D
REFRESH-INTERVAL:P3D
CALSCALE:GREGORIAN
BEGIN:VEVENT
DTSTART:20251220T013000Z
DTEND:20251220T033000Z
X-MICROSOFT-CDO-ALLDAYEVENT:FALSE
SUMMARY:MERRY AND BRIGHT DATE NIGHT WITH AKSAXO JAZZ BY LEE PULLIAM
DESCRIPTION:This Friday is merry and bright date night!! Join us for Christmas themed mocktails and cocktails! Date night food specials plus AXSAXO JAZZ live music by Lee Pulliam 6:30pm to 8:30pm. Happy Hour 3 to 5pm every day. Come relax and enjoy live jazz music\, delicious craft food\, craft beer\, craft cocktails and craft mocktails. Never a cover and free parking for Revival Brews customers. We hope to see you soon!! Cheers!!
X-ALT-DESC;FMTTYPE=text/html:This Friday is merry and bright date night!! Join us for Christmas themed mocktails and cocktails! Date night food specials plus AXSAXO JAZZ live music by Lee Pulliam 6:30pm to 8:30pm. Happy Hour 3 to 5pm every day. Come relax and enjoy live jazz music\, delicious craft food\, craft beer\, craft cocktails and craft mocktails. Never a cover and free parking for Revival Brews customers. We hope to see you soon!! Cheers!!&nbsp\;
LOCATION:Revival Brews 27845 Highway 74 downtown Evergreen\,
UID:e.298.99331
SEQUENCE:3
DTSTAMP:20260419T210807Z
URL:https://members.evergreenchamber.org/events/details/aksaxo-jazz-by-lee-pulliam-99331
END:VEVENT

END:VCALENDAR
