BEGIN:VCALENDAR
VERSION:2.0
PRODID:-//ChamberMaster//Event Calendar 2.0//EN
METHOD:PUBLISH
X-PUBLISHED-TTL:P3D
REFRESH-INTERVAL:P3D
CALSCALE:GREGORIAN
BEGIN:VEVENT
DTSTART:20200611T230000Z
DTEND:20200612T010000Z
X-MICROSOFT-CDO-ALLDAYEVENT:FALSE
SUMMARY:After Hours Virtual Mixer
DESCRIPTION:Come join us for our After Hours Mixer. Network with other local business owners\, win door prizes and enjoy food & beverages.
X-ALT-DESC;FMTTYPE=text/html:Come join us for our After Hours Mixer. Network with other local&nbsp\;business owners\, win door prizes and enjoy food &amp\; beverages.&nbsp\;
LOCATION:Virtual Event
UID:e.298.81026
SEQUENCE:3
DTSTAMP:20260425T235305Z
URL:https://members.evergreenchamber.org/events/details/after-hours-virtual-mixer-06-11-2020-81026
END:VEVENT

END:VCALENDAR
