BEGIN:VCALENDAR
VERSION:2.0
PRODID:-//ChamberMaster//Event Calendar 2.0//EN
METHOD:PUBLISH
X-PUBLISHED-TTL:P3D
REFRESH-INTERVAL:P3D
CALSCALE:GREGORIAN
BEGIN:VEVENT
DTSTART:20200709T230000Z
DTEND:20200710T003000Z
X-MICROSOFT-CDO-ALLDAYEVENT:FALSE
SUMMARY:After Hours Business Mixer
DESCRIPTION:Who is ready for a Mixer?\n\nWe are excited to invite you to our first business mixer in a while.\n\nCome join us for our July After Hours Mixer & please remember to bring your mask.\n\nNetwork with other local business owners\, win door prizes and enjoy food & beverages.\n\n\n\nLet's see how it goes.
X-ALT-DESC;FMTTYPE=text/html:Who is ready for a Mixer?<br />\nWe are excited to invite you to our first business mixer in a while.<br />\nCome join us for our July After Hours Mixer &amp\; please remember to bring your mask.<br />\nNetwork with other local&nbsp\;business owners\, win door prizes and enjoy food &amp\; beverages.<br />\n<br />\nLet&#39\;s see how it goes.&nbsp\;
LOCATION:Zandee Gallery 1254 Bergen Parkway D-118 Evergreen\, 80439
UID:e.298.81028
SEQUENCE:3
DTSTAMP:20260425T222600Z
URL:https://members.evergreenchamber.org/events/details/after-hours-business-mixer-08-13-2020-81028
END:VEVENT

END:VCALENDAR
