BEGIN:VCALENDAR
VERSION:2.0
PRODID:-//ChamberMaster//Event Calendar 2.0//EN
METHOD:PUBLISH
X-PUBLISHED-TTL:P3D
REFRESH-INTERVAL:P3D
CALSCALE:GREGORIAN
BEGIN:VEVENT
DTSTART:20210722T010000Z
DTEND:20210722T023000Z
X-MICROSOFT-CDO-ALLDAYEVENT:FALSE
SUMMARY:A Call to Action: Fight Child Trafficking with Dr. Jeff Brodsky
DESCRIPTION:Hear local abolitionist and best selling author Dr. Jeff Brodsky share stories from the frontlines of the fight against child trafficking and learn how you can make a difference in the lives of these precious children.
X-ALT-DESC;FMTTYPE=text/html:Hear local abolitionist and best selling author Dr. Jeff Brodsky share stories from the frontlines of the fight against child trafficking and learn how you can make a difference in the lives of these precious children.
LOCATION:CONGREGATION BETH EVERGREEN 2981 Bergen Peak Dr\, Evergreen\, CO
UID:e.298.84362
SEQUENCE:3
DTSTAMP:20260425T030233Z
URL:https://members.evergreenchamber.org/events/details/a-call-to-action-fight-child-trafficking-with-dr-jeff-brodsky-84362
END:VEVENT

END:VCALENDAR
