BEGIN:VCALENDAR
VERSION:2.0
PRODID:-//ChamberMaster//Event Calendar 2.0//EN
METHOD:PUBLISH
X-PUBLISHED-TTL:P3D
REFRESH-INTERVAL:P3D
CALSCALE:GREGORIAN
BEGIN:VEVENT
DTSTART:20240720T160000Z
DTEND:20240720T210000Z
X-MICROSOFT-CDO-ALLDAYEVENT:FALSE
SUMMARY:2024 High Altitude Garden Tour
DESCRIPTION:Support Evergreen's Public Gardens at the 2024 High Altitude Garden Show!\n\nSeeing is Believing   and believing is imagining what your garden can look like\, even at this altitude!\n\nJoin us on July 20th from 10 AM to 3 PM for the much-anticipated High Altitude Garden Tour in support of Evergreen's nine Public Gardens. Explore FIVE glorious gardens across Evergreen and discover how local gardeners overcome challenges like short growing seasons\, dry climates\, hostile soil\, fitful winds\, and insatiable wildlife. Experienced gardeners will be on hand as well as local artists and musicians.\n\nThis year's tour features:\n\n- Online Silent Auction with exciting & unique items\n\n-  Expanded Plant Sale at Hiwan Heritage Park/Museum (28473 Meadow Drive)\n\n-  Food & Drinks from Slife's Devil Dogs & Sweet Freeze Shave Ice Food Truck\n\n-  Local Artists and Musicians at each garden\n\nTickets are $25 | Kids 12 and under FREE\n\nLet's come together to celebrate and support our beautiful public gardens. Your participation helps us maintain and enhance these cherished community spaces. Get your tickets today and make a difference!\n\nFor more information and to purchase tickets for the tour\, please visit: https://www.evergreengardenclub.org/2024-garden-tour
X-ALT-DESC;FMTTYPE=text/html:<p><span style="font-size:12px"><strong><span style="color:#7030A0">Support Evergreen&#39\;s Public Gardens at the 2024 High Altitude Garden Show!</span></strong></span><br />\n<span style="font-size:12px"><strong>Seeing is Believing &ndash\; and believing is imagining what your garden can look like\, even at this altitude!</strong></span></p>\n\n<p><span style="font-size:12px">Join us on <strong><span style="color:#E95551">July 20th from 10 AM to 3 PM</span></strong> for the much-anticipated <strong><span style="color:#E95551">High Altitude Garden Tour</span></strong> in support of Evergreen&rsquo\;s nine Public Gardens. Explore <strong><span style="color:#7030A0">FIVE glorious gardens</span></strong> across Evergreen and discover how local gardeners overcome challenges like short growing seasons\, dry climates\, hostile soil\, fitful winds\, and insatiable wildlife. Experienced gardeners will be on hand as well as local artists and musicians.</span></p>\n\n<p><span style="font-size:12px">This year&rsquo\;s tour features:<br />\n-</span><strong>&nbsp\;<span style="font-size:12px">Online Silent Auction </span></strong><span style="font-size:12px">with exciting &amp\; unique items<br />\n-&nbsp\;&nbsp\;<strong>Expanded Plant Sale</strong> at Hiwan Heritage Park/Museum (28473 Meadow Drive)<br />\n-&nbsp\;&nbsp\;<strong>Food &amp\; Drinks</strong> from Slife&#39\;s Devil Dogs &amp\; Sweet Freeze Shave Ice Food Truck<br />\n-&nbsp\;&nbsp\;<strong>Local Artists and Musicians</strong> at each garden</span></p>\n\n<p><span style="font-size:12px"><strong>Tickets are </strong><strong><span style="color:#E95551">$25</span> | Kids 12 and under FREE</strong></span></p>\n\n<p><span style="font-size:12px">Let&#39\;s come together to celebrate and support our beautiful public gardens. Your participation helps us maintain and enhance these cherished community spaces. <strong>Get your tickets today and make a difference!</strong></span></p>\n\n<p><span style="font-size:12px"><strong><span style="color:#E95551">For more information and to purchase tickets for the tour\, please visit: </span><a href="http://www.evergreengardenclub.org/2024-garden-tour"><span style="color:#7030A0"><span style="color:#7030A0">https://www.evergreengardenclub.org/2024-garden-tou</span>r</span></a></strong></span></p>\n
LOCATION:EVENT DAY INSTRUCTIONS: Check-in begins at 9:00AM on Saturday\, July 20\, 2024\, at the Evergreen Fire/Rescue Training Center (1802 Bergen Parkway)\, where you'll pick up a wristband and self-guided Garden Tour map. Enjoy free coffee and donuts to help fuel your upcoming adventure. The self-guided Garden Tour map has a list of the gardens with addresses and driving directions. All gardens are located in Evergreen.
UID:e.298.93755
SEQUENCE:3
DTSTAMP:20260426T011411Z
URL:https://members.evergreenchamber.org/events/details/2024-high-altitude-garden-tour-93755
END:VEVENT

END:VCALENDAR
