BEGIN:VCALENDAR
VERSION:2.0
PRODID:-//ChamberMaster//Event Calendar 2.0//EN
METHOD:PUBLISH
X-PUBLISHED-TTL:P3D
REFRESH-INTERVAL:P3D
CALSCALE:GREGORIAN
BEGIN:VEVENT
DTSTART:20220507T140000Z
DTEND:20220508T050000Z
X-MICROSOFT-CDO-ALLDAYEVENT:FALSE
SUMMARY:2022 Electronic & Paper Recycling
DESCRIPTION:WEB sponsored Electronic & Paper Recycle Event.
X-ALT-DESC;FMTTYPE=text/html:WEB sponsored Electronic &amp\; Paper Recycle Event.
LOCATION:Evergreen High School
UID:e.298.86450
SEQUENCE:3
DTSTAMP:20260424T112816Z
URL:https://members.evergreenchamber.org/events/details/2022-electronic-paper-recycling-86450
END:VEVENT

END:VCALENDAR
