BEGIN:VCALENDAR
VERSION:2.0
PRODID:-//ChamberMaster//Event Calendar 2.0//EN
METHOD:PUBLISH
X-PUBLISHED-TTL:P3D
REFRESH-INTERVAL:P3D
CALSCALE:GREGORIAN
BEGIN:VEVENT
DTSTART:20220718T133000Z
DTEND:20220718T203000Z
X-MICROSOFT-CDO-ALLDAYEVENT:FALSE
SUMMARY:2022 Andy Smith Sr. Memorial INSPIRE Golf Tournament
DESCRIPTION:Andy Smith Sr. Memorial INSPIRE Golf Tournament\n\n\n\nPlay Golf at beautiful Hiwan Golf Club to support Mountain Foothills Rotary and EPRD'S INSPIRE (Special Needs) Program. Golfers\, door prizes\, and sponsors needed.\n\n\n\nDate: July 18\, 2022\n\nTime: 7:30 AM Shotgun Start\n\nLocation: Hiwan Golf Club\n\n\n\nThe goal of this fundraiser is to raise money for the Evergreen Park & Recreation District's INSPIRE (Special Needs) Program\, Evergreen Christian Outreach (EChO) and the Mountain Foothills Rotary Foundation. Money raised will help improve the existing INSPIRE Program\, and to help make financial scholarships available for the participants. Additionally\, it will help Mountain Foothills Rotary continue to support EChO and other local charitable causes.\n\n\n\nhttps://www.evergreenrecreation.com/246/Andy-Smith-Golf-Tournament
X-ALT-DESC;FMTTYPE=text/html:<span style="color:rgb(34\, 34\, 34)\; font-family:arial\,sans-serif\; font-size:12.8px"><strong>Andy Smith Sr. Memorial INSPIRE Golf Tournament</strong></span><br />\n<br />\n<span style="color:rgb(34\, 34\, 34)\; font-family:arial\,sans-serif\; font-size:12.8px">Play Golf at beautiful Hiwan Golf Club to support Mountain Foothills Rotary and EPRD&#39\;S INSPIRE (Special Needs) Program. Golfers\, door prizes\, and sponsors needed.</span><br />\n<br />\n<span style="color:rgb(34\, 34\, 34)\; font-family:arial\,sans-serif\; font-size:12.8px">Date: July 18\, 2022</span><br />\n<span style="color:rgb(34\, 34\, 34)\; font-family:arial\,sans-serif\; font-size:12.8px">Time: 7</span><span style="color:rgb(34\, 34\, 34)\; font-family:arial\,sans-serif\; font-size:12.8px">:30 AM</span><span style="color:rgb(34\, 34\, 34)\; font-family:arial\,sans-serif\; font-size:12.8px">&nbsp\;Shotgun Start</span><br />\n<span style="color:rgb(34\, 34\, 34)\; font-family:arial\,sans-serif\; font-size:12.8px">Location: Hiwan Golf Club</span><br />\n<br />\nThe&nbsp\;goal of this fundraiser is to raise money for the Evergreen&nbsp\;Park &amp\; Recreation District&rsquo\;s INSPIRE (Special Needs) Program\,&nbsp\;Evergreen Christian Outreach (EChO) and the Mountain Foothills&nbsp\;Rotary Foundation. Money raised will help improve the&nbsp\;existing INSPIRE Program\, and to help make financial&nbsp\;scholarships available for the participants. Additionally\,&nbsp\;it will help Mountain Foothills Rotary continue to support EChO&nbsp\;and other local charitable causes.<br />\n<br />\n<a href="https://www.evergreenrecreation.com/246/Andy-Smith-Golf-Tournament">https://www.evergreenrecreation.com/246/Andy-Smith-Golf-Tournament</a>
LOCATION:Hiwan Golf Club
UID:e.298.87261
SEQUENCE:3
DTSTAMP:20260424T082610Z
URL:https://members.evergreenchamber.org/events/details/2022-andy-smith-sr-memorial-inspire-golf-tournament-87261
END:VEVENT

END:VCALENDAR
