BEGIN:VCALENDAR
VERSION:2.0
PRODID:-//ChamberMaster//Event Calendar 2.0//EN
METHOD:PUBLISH
X-PUBLISHED-TTL:P3D
REFRESH-INTERVAL:P3D
CALSCALE:GREGORIAN
BEGIN:VEVENT
DTSTART:20210911T140000Z
DTEND:20210911T170000Z
X-MICROSOFT-CDO-ALLDAYEVENT:FALSE
SUMMARY:2021 Evergreen Trail Racing Series #4: Evergreen Mountain 15k
DESCRIPTION:Evergreen Park & Recreation District (EPRD) invites runners to compete in the 2021 Evergreen Trail Racing Series\, a four-race series of running events on mountainous terrain around scenic Evergreen. Distances range from a 5k to an epic half-marathon to the top of Bergen Peak (elevation 9\,708 feet)\, a climb of well over 2\,000 vertical feet. \n\n \n\nRACE #4 -- EVERGREEN MOUNTAIN 15K\n\n8 AM (Registration opens at 7 AM)\n\nAlderfer/3 Sisters Park\, west parking lot\, 5136 South Le Masters Road\, Evergreen\, CO\n\n\n\nThe Evergreen Mountain 15K takes runners past the Three Sisters and Brother rock formations and 1\,0000 feet up Evergreen Mountain before sprinting down the mountain to the finish. \n\n\n\nRace starts at 8:00 AM (pre-registration opens at 7:00 AM).\n\n \nREGISTER online at https://www.evergreenrecreation.com/249/Evergreen-Trail-Race-Series \n\nFor more info\, contact Race Director Kendra Head at 720-880-1226 or khead@eprd.co.
X-ALT-DESC;FMTTYPE=text/html:<p><span style="color:rgb(0\, 0\, 0)\; font-family:arial\,helvetica\,sans-serif">Evergreen Park &amp\; Recreation District (EPRD) invites runners to compete in the 2021 Evergreen Trail Racing Series\, a four-race series of running events on&nbsp\;</span>mountainous<span style="color:rgb(0\, 0\, 0)\; font-family:arial\,helvetica\,sans-serif">&nbsp\;terrain around scenic Evergreen.&nbsp\;Distances range from a 5k to an epic half-marathon to the top of Bergen Peak (elevation 9\,708 feet)\, a climb of well over 2\,000 vertical feet.&nbsp\;</span><br />\n&nbsp\;</p>\n\n<p><strong><span style="color:rgb(20\, 24\, 35)\; font-family:helvetica\,arial\,sans-serif\; font-size:14px">RACE #4 -- EVERGREEN MOUNTAIN 15K</span></strong><br />\n<span style="color:rgb(20\, 24\, 35)\; font-family:helvetica\,arial\,sans-serif\; font-size:14px">8 AM (Registration opens at 7 AM)</span><br />\nAlderfer/3 Sisters Park\,&nbsp\;<span style="font-size:14px">west parking lot\,&nbsp\;</span><span style="color:rgb(34\, 34\, 34)"><span style="font-family:georgia"><span style="font-size:9.5pt"><span style="color:rgb(17\, 85\, 204)"><a href="https://maps.google.com/?q=5136+South+Le+Masters+Road&amp\;entry=gmail&amp\;source=g">5136 South Le Masters Road</a>\,&nbsp\;</span></span></span></span>Evergreen\, CO<br />\n<br />\nThe Evergreen Mountain 15K takes runners past the Three Sisters and Brother rock formations and 1\,0000 feet up Evergreen Mountain before sprinting down the mountain to the finish.&nbsp\;<br />\n<br />\nRace&nbsp\;starts at 8:00 AM (pre-registration opens at 7:00 AM).<br />\n&nbsp\;</p>\n<span style="color:rgb(20\, 24\, 35)\; font-family:helvetica\,arial\,sans-serif\; font-size:14px">REGISTER online at&nbsp\;</span><a href="https://www.evergreenrecreation.com/249/Evergreen-Trail-Race-Series">https://www.evergreenrecreation.com/249/Evergreen-Trail-Race-Series</a>&nbsp\;<br />\n<span style="color:rgb(20\, 24\, 35)\; font-family:helvetica\,arial\,sans-serif\; font-size:14px">For more info\, contact Race Director Kendra Head at 720-880-1226 or&nbsp\;<a href="mailto:klind@eprd.co">khead@eprd.co</a>.</span><br />\n&nbsp\;
LOCATION:Alderfer/3 Sisters Park\, west parking lot\, 5136 South Le Masters Road\, Evergreen\, CO
UID:e.298.83823
SEQUENCE:3
DTSTAMP:20260425T003652Z
URL:https://members.evergreenchamber.org/events/details/2021-evergreen-trail-racing-series-4-evergreen-mountain-15k-83823
END:VEVENT

END:VCALENDAR
