BEGIN:VCALENDAR
VERSION:2.0
PRODID:-//ChamberMaster//Event Calendar 2.0//EN
METHOD:PUBLISH
X-PUBLISHED-TTL:P3D
REFRESH-INTERVAL:P3D
CALSCALE:GREGORIAN
BEGIN:VEVENT
DTSTART:20210720T230000Z
DTEND:20210721T010000Z
X-MICROSOFT-CDO-ALLDAYEVENT:FALSE
SUMMARY:2021 Community Appreciation Event
DESCRIPTION:Festivities will begin with a guided meditation\, a release of concerns and stress from the past year and a half\, a setting of new intentions and an invocation of positive pathways for us to step forward as a community. Once we have released all the negative from the past\, we will move forward in celebration with an ice cream party! This event is appropriate for the entire family.
X-ALT-DESC;FMTTYPE=text/html:<span style="font-size:16px\;"><span style="font-family:arial\;">Festivities will begin with a guided meditation\, a release of concerns and stress from the past year and a half\, a setting of new intentions and an invocation of positive pathways for us to step forward as a community.&nbsp\;Once we have released all the negative from the past\, we will move forward in celebration with an ice cream party!&nbsp\;This event is appropriate for the entire family.</span></span>
LOCATION:Please join us at the Lake House to celebrate with an Ice Cream Social Party 29612 Upper Bear Creek Road Evergreen\, CO 80439
UID:e.298.84339
SEQUENCE:3
DTSTAMP:20260425T025941Z
URL:https://members.evergreenchamber.org/events/details/2021-community-appreciation-event-84339
END:VEVENT

END:VCALENDAR
